0.846676962000
0.000000000000
0.000000000000
-0.846676962000
96000.423340502297
163999.576653789640
