0.846676962000
0.000000000000
0.000000000000
-0.846676962000
96000.423340503330
175999.576653358900
