0.846676962000
0.000000000000
0.000000000000
-0.846676962000
100000.423340357620
171999.576653833090
