0.846676962000
0.000000000000
0.000000000000
-0.846676962000
104000.423340213500
163999.576654335860
