0.846676962000
0.000000000000
0.000000000000
-0.846676962000
96000.423340503330
171999.576653500700
