0.846676962000
0.000000000000
0.000000000000
-0.846676962000
104000.423340213180
171999.576654053210
